BEGIN:VCALENDAR
VERSION:2.0
PRODID:spatie/icalendar-generator
DESCRIPTION:Évènements de Notre Dame de l&amp;#039\;Espérance
X-WR-CALDESC:Évènements de Notre Dame de l&amp;#039\;Espérance
REFRESH-INTERVAL;VALUE=DURATION:PT1440M
X-PUBLISHED-TTL:PT1440M
BEGIN:VTIMEZONE
TZID:Europe/Paris
BEGIN:STANDARD
DTSTART:20241027T030000Z
TZOFFSETFROM:+0200
TZOFFSETTO:+0100
END:STANDARD
BEGIN:DAYLIGHT
DTSTART:20250330T020000Z
TZOFFSETFROM:+0100
TZOFFSETTO:+0200
END:DAYLIGHT
BEGIN:STANDARD
DTSTART:20251026T030000Z
TZOFFSETFROM:+0200
TZOFFSETTO:+0100
END:STANDARD
END:VTIMEZONE
BEGIN:VTIMEZONE
TZID:UTC
BEGIN:STANDARD
DTSTART:20250723T124009Z
TZOFFSETFROM:+0000
TZOFFSETTO:+0000
END:STANDARD
END:VTIMEZONE
BEGIN:VEVENT
UID:91-58
DTSTAMP:20260419T124009Z
SUMMARY:Veillée de prière pour les vocations
LOCATION:
ORGANIZER;CN=admin:MAILTO:pem78.webmaster@gmail.com
DTSTART;TZID=Europe/Paris:20250627T193000
DTEND;TZID=Europe/Paris:20250627T203000
X-ALT-DESC;FMTTYPE=TEXT/HTML:La paroisse vous invite aussi à prier pour le
 s vocations : nous vous donnons donc rendez-vous le vendredi 27 juin\, à 
 l’église Saint-Pierre à Élancourt\, pour la messe de la fête du Sacr
 é-Cœur à 19h30 suivie d’une veillée de prière pour les vocations.
CATEGORIES:Église Saint-Pierre,  Prière
URL;VALUE=URI:https://wp.notredamedelesperance.org/mc-events/veillee-de-pri
 ere-pour-les-vocations/
METHOD:PUBLISH
END:VEVENT
END:VCALENDAR